BEGIN:VCALENDAR
VERSION:2.0
PRODID:-//Memento Mori Los Angeles - ECPv6.15.20//NONSGML v1.0//EN
CALSCALE:GREGORIAN
METHOD:PUBLISH
X-WR-CALNAME:Memento Mori Los Angeles
X-ORIGINAL-URL:https://mementomori-la.com
X-WR-CALDESC:Events for Memento Mori Los Angeles
REFRESH-INTERVAL;VALUE=DURATION:PT1H
X-Robots-Tag:noindex
X-PUBLISHED-TTL:PT1H
BEGIN:VTIMEZONE
TZID:UTC
BEGIN:STANDARD
TZOFFSETFROM:+0000
TZOFFSETTO:+0000
TZNAME:UTC
DTSTART:20250101T000000
END:STANDARD
END:VTIMEZONE
BEGIN:VEVENT
DTSTART;TZID=UTC:20260516T100000
DTEND;TZID=UTC:20260516T170000
DTSTAMP:20260424T174926
CREATED:20260224T024931Z
LAST-MODIFIED:20260224T024931Z
UID:10000092-1778925600-1778950800@mementomori-la.com
SUMMARY:The Oddities & Curiosities Expo - St. Louis
DESCRIPTION:For the Lovers of the Strange\, Unusual & Bizarre… \nWHEN: Saturday May 16th 10am – 5pm AND Sunday May 17th 10am-5pm \nThe Oddities & Curiosities Expo is the world’s largest traveling oddities event showcasing hand selected vendors\, dealers\, artists and small businesses with all things weird. You’ll find items such as: taxidermy\, preserved specimens\, original artwork\, horror/halloween inspired pieces\, antiques\, handcrafted oddities\, quack medical devices\, creepy clothing\, odd jewelry\, skulls/bones\, funeral collectibles & much more. There is truly something weird for everyone at these shows. All items you see at these shows are legal to own and sustainably sourced. Outside of the curated vendors\, they also host sideshow performers on the main stage all throughout the day PLUS there is the opportunity to learn the craft of taxidermy with classes available during the expo. \nThe O&C Expo provides a safe place for anyone to come and discover new artists\, meet new friends and be surrounded by an amazing community of like-minded people. They pride themselves in being a completely “DIY” run show from start to finish. They find so much joy in being able to provide a place where you can feel at home surrounded by others that share the same interests. They are the first and original traveling event exclusively showcasing oddities vendors and dark artists in the country. They are a one of a kind event and the first to do what they specialize in. They take tremendous pride in this and hope to gain your support along the way. \nKids 12 and under are free and DO NOT NEED A TICKET. No refunds. \n***CLICK HERE for TICKETS***
URL:https://mementomori-la.com/event/the-oddities-curiosities-expo-st-louis-2/
LOCATION:Americas Center Convention Complex\, 701 Convention Plaza (Hall 4/4X)\, St. Louis\, MO\, 63101\, United States
CATEGORIES:Events
ATTACH;FMTTYPE=image/png:https://mementomori-la.com/wp-content/uploads/2026/02/Screen-Shot-2026-02-21-at-2.26.13-PM.png
END:VEVENT
BEGIN:VEVENT
DTSTART;TZID=UTC:20260523T100000
DTEND;TZID=UTC:20260523T170000
DTSTAMP:20260424T174926
CREATED:20260224T030229Z
LAST-MODIFIED:20260224T030229Z
UID:10000094-1779530400-1779555600@mementomori-la.com
SUMMARY:The Oddities & Curiosities Expo - Minneapolis
DESCRIPTION:For the Lovers of the Strange\, Unusual & Bizarre… \nWHEN: Saturday May 23rd 10am – 5pm AND Sunday May 24th 10am-5pm \nThe Oddities & Curiosities Expo is the world’s largest traveling oddities event showcasing hand selected vendors\, dealers\, artists and small businesses with all things weird. You’ll find items such as: taxidermy\, preserved specimens\, original artwork\, horror/halloween inspired pieces\, antiques\, handcrafted oddities\, quack medical devices\, creepy clothing\, odd jewelry\, skulls/bones\, funeral collectibles & much more. There is truly something weird for everyone at these shows. All items you see at these shows are legal to own and sustainably sourced. Outside of the curated vendors\, they also host sideshow performers on the main stage all throughout the day PLUS there is the opportunity to learn the craft of taxidermy with classes available during the expo. \nThe O&C Expo provides a safe place for anyone to come and discover new artists\, meet new friends and be surrounded by an amazing community of like-minded people. They pride themselves in being a completely “DIY” run show from start to finish. They find so much joy in being able to provide a place where you can feel at home surrounded by others that share the same interests. They are the first and original traveling event exclusively showcasing oddities vendors and dark artists in the country. They are a one of a kind event and the first to do what they specialize in. They take tremendous pride in this and hope to gain your support along the way. \nKids 12 and under are free and DO NOT NEED A TICKET. No refunds. \n***CLICK HERE for TICKETS***
URL:https://mementomori-la.com/event/the-oddities-curiosities-expo-minneapolis/
LOCATION:Minnapolis Convention Center\, 1301 2nd Ave S\, Minneapolis\, MN\, 55403\, United States
CATEGORIES:Events
ATTACH;FMTTYPE=image/png:https://mementomori-la.com/wp-content/uploads/2026/02/Screen-Shot-2026-02-21-at-2.26.13-PM.png
END:VEVENT
BEGIN:VEVENT
DTSTART;TZID=UTC:20260613T100000
DTEND;TZID=UTC:20260613T170000
DTSTAMP:20260424T174926
CREATED:20260224T031408Z
LAST-MODIFIED:20260224T031408Z
UID:10000096-1781344800-1781370000@mementomori-la.com
SUMMARY:The Oddities & Curiosities Expo - Pittsburgh
DESCRIPTION:For the Lovers of the Strange\, Unusual & Bizarre… \nWHEN: Saturday June 13th 10am – 5pm AND Sunday June 14th 10am-5pm \nThe Oddities & Curiosities Expo is the world’s largest traveling oddities event showcasing hand selected vendors\, dealers\, artists and small businesses with all things weird. You’ll find items such as: taxidermy\, preserved specimens\, original artwork\, horror/halloween inspired pieces\, antiques\, handcrafted oddities\, quack medical devices\, creepy clothing\, odd jewelry\, skulls/bones\, funeral collectibles & much more. There is truly something weird for everyone at these shows. All items you see at these shows are legal to own and sustainably sourced. Outside of the curated vendors\, they also host sideshow performers on the main stage all throughout the day PLUS there is the opportunity to learn the craft of taxidermy with classes available during the expo. \nThe O&C Expo provides a safe place for anyone to come and discover new artists\, meet new friends and be surrounded by an amazing community of like-minded people. They pride themselves in being a completely “DIY” run show from start to finish. They find so much joy in being able to provide a place where you can feel at home surrounded by others that share the same interests. They are the first and original traveling event exclusively showcasing oddities vendors and dark artists in the country. They are a one of a kind event and the first to do what they specialize in. They take tremendous pride in this and hope to gain your support along the way. \nKids 12 and under are free and DO NOT NEED A TICKET. No refunds. \n***CLICK HERE for TICKETS***
URL:https://mementomori-la.com/event/the-oddities-curiosities-expo-pittsburgh-2/
LOCATION:David L. Lawrence Convention Center\, 1000 Fort Duquense Blvd\, Pittsburgh\, PA\, United States
CATEGORIES:Events
ATTACH;FMTTYPE=image/png:https://mementomori-la.com/wp-content/uploads/2026/02/Screen-Shot-2026-02-21-at-2.26.13-PM.png
END:VEVENT
BEGIN:VEVENT
DTSTART;TZID=UTC:20260620T100000
DTEND;TZID=UTC:20260620T170000
DTSTAMP:20260424T174926
CREATED:20260224T031759Z
LAST-MODIFIED:20260224T031759Z
UID:10000097-1781949600-1781974800@mementomori-la.com
SUMMARY:The Oddities & Curiosities Expo - Baltimore!
DESCRIPTION:For the Lovers of the Strange\, Unusual & Bizarre… \nWHEN: Saturday June 20th 10am – 5pm AND Sunday June 21st 10am-5pm \nThe Oddities & Curiosities Expo is the world’s largest traveling oddities event showcasing hand selected vendors\, dealers\, artists and small businesses with all things weird. You’ll find items such as: taxidermy\, preserved specimens\, original artwork\, horror/halloween inspired pieces\, antiques\, handcrafted oddities\, quack medical devices\, creepy clothing\, odd jewelry\, skulls/bones\, funeral collectibles & much more. There is truly something weird for everyone at these shows. All items you see at these shows are legal to own and sustainably sourced. Outside of the curated vendors\, they also host sideshow performers on the main stage all throughout the day PLUS there is the opportunity to learn the craft of taxidermy with classes available during the expo. \nThe O&C Expo provides a safe place for anyone to come and discover new artists\, meet new friends and be surrounded by an amazing community of like-minded people. They pride themselves in being a completely “DIY” run show from start to finish. They find so much joy in being able to provide a place where you can feel at home surrounded by others that share the same interests. They are the first and original traveling event exclusively showcasing oddities vendors and dark artists in the country. They are a one of a kind event and the first to do what they specialize in. They take tremendous pride in this and hope to gain your support along the way. \nKids 12 and under are free and DO NOT NEED A TICKET. No refunds. \n***CLICK HERE for TICKETS***
URL:https://mementomori-la.com/event/the-oddities-curiosities-expo-baltimore/
LOCATION:The Baltimore Convention Center\, 1 W Pratt St.\, Baltimore\, WA\, United States
CATEGORIES:Events
ATTACH;FMTTYPE=image/png:https://mementomori-la.com/wp-content/uploads/2026/02/Screen-Shot-2026-02-21-at-2.26.13-PM.png
END:VEVENT
END:VCALENDAR