BEGIN:VCALENDAR
VERSION:2.0
PRODID:-//Memento Mori Los Angeles - ECPv6.15.20//NONSGML v1.0//EN
CALSCALE:GREGORIAN
METHOD:PUBLISH
X-WR-CALNAME:Memento Mori Los Angeles
X-ORIGINAL-URL:https://mementomori-la.com
X-WR-CALDESC:Events for Memento Mori Los Angeles
REFRESH-INTERVAL;VALUE=DURATION:PT1H
X-Robots-Tag:noindex
X-PUBLISHED-TTL:PT1H
BEGIN:VTIMEZONE
TZID:UTC
BEGIN:STANDARD
TZOFFSETFROM:+0000
TZOFFSETTO:+0000
TZNAME:UTC
DTSTART:20220101T000000
END:STANDARD
END:VTIMEZONE
BEGIN:VEVENT
DTSTART;TZID=UTC:20240518T150000
DTEND;TZID=UTC:20240519T210000
DTSTAMP:20260425T033004
CREATED:20240201T035454Z
LAST-MODIFIED:20240201T035454Z
UID:10000057-1716044400-1716152400@mementomori-la.com
SUMMARY:Blasphemeet: The Marsh of Styx
DESCRIPTION:ComaVVitch Presents \nBLASPHEMEET: THE MARSH OF STYX \nDates: Saturday 5.18.2024 – Sunday 5.19.2024 \nRitual Chamber: Monarch Studios \n333 S Mission Road\, DTLA \n​ \nDark Art Vendors | Live In-Person Auction | BlaspheDRAG Showcase | Rituals | Food & Libations \nAND MORE! \n​ \nBlasphemeet is a highly curated market ritual event in celebration of all things that exist in darkness with an emphasis on what is blasphemous\, morbid\, sinister\, indulgent\, erotic\, and “extreme.” As you venture deeper into the abyss you will experience the Occult\, Witchery\, Artistry\, Devilry\, Divination\, Heresy\, Oddities\, Sexuality\, Fetishism\, and Death. We carefully select our daemon vendors to provide our guests with the finest artisans Hell has to offer. \nWe invite you to join us and take back your original sin\, embrace the Beast within\, and abandon all hope\, ye who enter here.
URL:https://mementomori-la.com/event/blasphemeet-the-marsh-of-styx/
LOCATION:Monarch Studios\, 333 South Mission Rd\, Los Angeles\, CA\, 90033\, United States
CATEGORIES:Events
ATTACH;FMTTYPE=image/png:https://mementomori-la.com/wp-content/uploads/2024/02/0f4219_f097eb79562543b397a213807c1a814fmv2.png
END:VEVENT
BEGIN:VEVENT
DTSTART;TZID=UTC:20231111T150000
DTEND;TZID=UTC:20231112T220000
DTSTAMP:20260425T033004
CREATED:20230804T220239Z
LAST-MODIFIED:20231013T231822Z
UID:10000034-1699714800-1699826400@mementomori-la.com
SUMMARY:Blasphemeet
DESCRIPTION:ComaVVitch Presents \nBLASPHEMEET: NATION OF LOST SOULS\nMarket Ritual Details\n\n\nTHE GATES OF HELL SHALL OPEN ONCE AGAIN… \n\n\n\n\n\n  \nWhen: \nSaturday\, 11.11.2023 | 3:00 PM – 10:00 PM \nSunday\, 11.12.2023 | 3:00 PM – 9:00 PM \nWhere:  \nMonarch Studios\, 333 S Mission Rd\, Los Angeles\, CA 90033\, USA \n  \nJoin us for the return of BLASPHEMEET! Blasphemeet  is a highly curated market ritual event in celebration of all things that exist in darkness with an emphasis on what is blasphemous\, morbid\,  sinister\, indulgent\, erotic\, and “extreme.” As you venture deeper into the abyss you will experience the Occult\, Witchery\, Artistry\, Devilry\, Divination\, Heresy\, Oddities\, Sexuality\,  Fetishism\, and Death. \n​We invite you to join us and take back your original sin\, embrace the Beast within\, and abandon all hope\, ye who enter here. \n  \n$7 ADMISSION \nJOIN THE CULT OF BLASPHEMEET TO ATTEND \nClick HERE for TICKETS!\n  \nATTENDEE DISCRETION ADVISED: Blasphemeet is a marketplace of pure religious\, social\, and sexual liberation. Displays and performance of graphic material and other extreme content may be present\, including but not limited to: blood\, violence\, nudity\, BDSM/kink/erotica\, sexual content\, drug use\, etc. There are no age restrictions on attendance\, however we trust that it is the attendee’s responsibility to have the intellectual and emotional maturity to handle this subject matter. \n  \nBLASPHEMEET CULTURE STATEMENT: Blasphemeet is a safe space for vendors\, artists\, devotees\, and guests of any race\, gender\, ethnic background\, sexuality\, occult practice\, mental/physical ability\, etc. Blasphemeet is an inclusive community of Queer\, Sex-Positive\, Body-Positive\, BIPOC\, Neurodivergent\, etc. creators and will not tolerate prejudice of any kind. \nIt is also very important that it is known that CONSENT IS NEVER IMPLIED\, ALWAYS EXPLICIT. BDSM/kink/etc. is built upon a foundation of safety and trust. The safety and bodily autonomy of all event vendors\, staff\, and guests are paramount. \nBlasphemeet actively celebrates diversity within our community and welcomes any that share these values to join and feel empowered to be exactly who they are without reservation. \nZERO TOLERANCE POLICY: Any violation or sign of disrespect towards any vendor\, event/venue staff\, and/or guests will result in immediate removal from the premises. \n\n\n\n 
URL:https://mementomori-la.com/event/blasphemeet/
LOCATION:Monarch Studios\, 333 South Mission Rd\, Los Angeles\, CA\, 90033\, United States
CATEGORIES:Events
ATTACH;FMTTYPE=image/png:https://mementomori-la.com/wp-content/uploads/2023/08/0f4219_2bdab4200c5245f2b41780bc431d135dmv2.png
END:VEVENT
END:VCALENDAR